

BEGIN:VCALENDAR
VERSION:2.0
PRODID:-//hacksw/handcal//NONSGML v1.0//EN
CALSCALE:GREGORIAN
BEGIN:VEVENT
DTEND:20180429T160000
UID:6037df8985313
DTSTAMP:20210226T043401
LOCATION:Oak Hall 213 Wonga Road Warranwood 3134 VIC
DESCRIPTION:Warranwood&nbsp\;Art ShowExhibition Weekend - Saturday 28 &amp\; Sunday 29 April
Entry by donation
Open 10am to 4pm\, award-winning&nbsp\;artworks - oils\, acrylics\,&nbsp\;watercolours\, pastels\,&nbsp\;mixed media\, printmaking\, textile works\, ceramics\, photography\, digital art\, sculpture\, metalwork\, jewellery - by&nbsp\;professional and emerging artists from local and regional areas.
4-6pm Saturday -&nbsp\;Art&amp\;Wine with Cello&nbsp\;by&nbsp\;Alexi&nbsp\;Kyrkilis-Kalathas\, enjoy&nbsp\;Rob Dolan&nbsp\;Wines&nbsp\;(available by the glass)\, cheese plates available.&nbsp\;
10.30am Sunday - sublime opera singing by Dominique Oyston
3pm Sunday - artwork raffle&nbsp\;drawn for beautiful colour pastel artwork Tea Readings&nbsp\;by award winning artist\, Kylie Sirret2018 Feature Artist Marguerite&nbsp\;Swann
Vote for your favourite artwork in the People's Choice Award\, announced 3pm Sunday.&nbsp\;
10am-4pm&nbsp\;daily Acorn Cafe&nbsp\;-&nbsp\;light lunches\, home baked treats\, teas and espresso coffee.

Venue -&nbsp\;Warranwood&nbsp\;Art&nbsp\;Show is located in Oak Hall\, Warranwood213 Wonga&nbsp\;Road\, Warranwood&nbsp\;Vic 3134.&nbsp\;&nbsp\;Plenty of carparking&nbsp\;available.
Exhibition opening times -&nbsp\;- Friday 27 April Opening Night Gala\, 7pm till 9.30pm $20 entry.- Saturday 28 April\, 10am till 6pm (Art&amp\;Wine with Cello&nbsp\;4-6pm)- Sunday 29 April\, 10am-4pm (Dominique Oyston&nbsp\;10.30am)Weekend entry by donation.Enquiries
Warranwood Art Show&nbsp\;thanks&nbsp\;its patrons\, sponsors and supporters of its seasonal events&nbsp\;&ndash\; enabling continuity and support for the artists&nbsp\;and arts community through art awards\, recognition and artwork sales in addition to showcasing artistic performances to art lovers and the greater community.&nbsp\;&nbsp\;
URL;VALUE=URI:http://warranwoodartshow.com.au/event/31422
SUMMARY:Exhibition Weekend\, April 28-29
DTSTART:20180428T100000
END:VEVENT
END:VCALENDAR

