

BEGIN:VCALENDAR
VERSION:2.0
PRODID:-//hacksw/handcal//NONSGML v1.0//EN
CALSCALE:GREGORIAN
BEGIN:VEVENT
DTEND:20180427T213000
UID:6037dfd23b34b
DTSTAMP:20210226T043514
LOCATION:Oak Hall 213 Wonga Road (in the foreground gardens of the Melbourne Rudolf Steiner School) Warranwood 3134 VIC
DESCRIPTION:Artworks! Awards! Artists!
Applaud the prize-winning artists in the&nbsp\;combined prize pool valued at $6\,000.&nbsp\;&nbsp\;Award winners announced by 2018 independent judge\,&nbsp\;Emmy Mavroidis.
See all the&nbsp\;artworks with the&nbsp\;chance to purchase early.
Wonderful opportunity to speak with exhibiting artists about their work\, discover new mediums&nbsp\;and be inspired.&nbsp\;
Enjoy the party atmosphere with live music\,&nbsp\;speak with the artists\, special guests\, art lovers and friends of Warranwood&nbsp\;Art Show.&nbsp\; Tickets $20\, includes&nbsp\;canapes and first beverage.
Opening Night Gala - 7pm Fri-27-April-2018 $20 entry\, cash at door (or *buy your ticket online to go into the prize draw)
Venue:&nbsp\; Oak Hall (in the foreground gardens of the Melbourne Rudolf Steiner School)213-215 Wonga&nbsp\;Road\, Warranwood&nbsp\;Vic 3134&nbsp\;&nbsp\;Plenty of carparking&nbsp\;available&nbsp\;
Queries?&nbsp\; Contact us
(*Online ticket sales only - purchase your ticket online to go into the prize draw\, chance to win a photography session valued at $600 by Artist Photographer\, not redeemable for cash\, conditions apply.&nbsp\; Winner drawn and announced at Gala)
Warranwood&nbsp\;Art Show is a fundraiser for the Melbourne Rudolf Steiner School's 'School Community Association'\, towards&nbsp\;new and improved&nbsp\;equipment and facility upgrades&nbsp\;at&nbsp\;the school.&nbsp\; &nbsp\;
URL;VALUE=URI:http://warranwoodartshow.com.au/event/31480
SUMMARY:Opening Night Gala\, April 27 
DTSTART:20180427T190000
END:VEVENT
END:VCALENDAR

