

BEGIN:VCALENDAR
VERSION:2.0
PRODID:-//hacksw/handcal//NONSGML v1.0//EN
CALSCALE:GREGORIAN
BEGIN:VEVENT
DTEND:20190901T160000
UID:6037dfa5eec2b
DTSTAMP:20210226T043429
LOCATION:Oak Hall 213 Wonga Road Warranwood 3134 VIC
DESCRIPTION:EXHIBITION WEEKEND
Saturday 31 August\, 10-6&nbsp\; Sunday 1 September 10-4
Weekend entry by donation
Oak Hall\, 213 Wonga&nbsp\;Road\, Warranwood&nbsp\;

Art by 98 professional and emerging artists in the Oak Hall gallery and rooms&nbsp\;&nbsp\;- paintings\, drawings\, mixed media\, photography/digital art\, ceramics\, sculpture&nbsp\;textiles and jewellery&nbsp\;
Participate in the interactive nature-based&nbsp\;installation&nbsp\;by artist Clare James'&nbsp\;Gratitude Grotto.


2pm Saturday\, an&nbsp\;artistic talk by&nbsp\;Australian and international award-winning artist&nbsp\;Agnes&nbsp\;Parcesepe&nbsp\;(Agili)
4-6pm Saturday&nbsp\;Art\, Wine &amp\; Music&nbsp\;~ live music performed by&nbsp\;VCE&nbsp\;student musicians from the Melbourne Rudolf Steiner School&nbsp\;- musical trio on guitar cello and voice\, - a-capella&nbsp\;singing&nbsp\;- local&nbsp\;Rob Dolan Wines&nbsp\;available by the glass\, orders taken&nbsp\;- selection of&nbsp\;Moondarra&nbsp\;Cheese.
Raffle tickets for&nbsp\;still life artwork in oils\,&nbsp\;Banksias&nbsp\;and Tomatoes II&nbsp\;by artist&nbsp\;Kirsty&nbsp\;McIntyre\,&nbsp\;drawn 3pm on Sunday.&nbsp\;
Vote for your favourite artwork\,&nbsp\;People's Choice Award\, proudly sponsored by&nbsp\;Victorian Artist Supplies&nbsp\;winning artist announced 3pm Sunday.&nbsp\;
Cafe&nbsp\;open 10-4 ~ enjoy light lunches\, home-baked treats\, teas and espresso coffee.
Spotto&nbsp\;fun for children.&nbsp\;

Weekend entry by donation.
Connect with our social channels for Award news and event&nbsp\;updates 
Enquiries
&nbsp\;
Warranwood Art Show&nbsp\;thanks&nbsp\;its patrons\, 2019 Sponsors and Supporters\, enabling continuity and support for the arts community through art awards\, recognition and artwork sales in addition to showcasing artistic performances to art lovers and&nbsp\;community.&nbsp\;
&nbsp\;
URL;VALUE=URI:http://warranwoodartshow.com.au/event/38937
SUMMARY:Exhibition Weekend\, 31-Aug & 1-Sept 2019
DTSTART:20190831T100000
END:VEVENT
END:VCALENDAR

