

BEGIN:VCALENDAR
VERSION:2.0
PRODID:-//hacksw/handcal//NONSGML v1.0//EN
CALSCALE:GREGORIAN
BEGIN:VEVENT
DTEND:20190831T150000
UID:6037dfabf11f9
DTSTAMP:20210226T043435
LOCATION:Oak Hall 213 Wonga Road Warranwood 3134 VIC
DESCRIPTION:an Artistic talk with Agnes Parcesepe
2pm Saturday\, an&nbsp\;artistic talk&nbsp\;by&nbsp\;Australian and international award-winning artist&nbsp\;Agnes&nbsp\;Parcesepe&nbsp\;(Agili)
Saturday 31 August at 2pm
Oak Hall\, 213 Wonga&nbsp\;Road\, Warranwood&nbsp\;
A multi-talented artist\, Agnes Parcesepe\,&nbsp\;also known as Agili\,&nbsp\;takes her art seriously bringing&nbsp\;it into completely new realms with a variety of different styles and approaches to her art work. Her mixture of landscapes\, still life and mixed media works demonstrate the variety of techniques that she has mastered.&nbsp\;
Agnes has enjoyed numerous successful exhibitions throughout Australia\, Europe\, US and London and the presence of her work in prestigious collections across the world is an affirmation of her continually expanding reputation.&nbsp\;
She works with different media and materials with amazing results. Her&nbsp\;mixed media and watercolour washes have&nbsp\;received local\, regional\, national and international recognition and acclaim.&nbsp\;
Recently Agnes had exhibitions in New York\, Los Angeles\,&nbsp\;Las Vegas Museum\, in Italy Lecce\, Rome\, Sicily\,&nbsp\;and Madrid.&nbsp\;
Agnes has won numerous local and international&nbsp\;Awards.&nbsp\;&nbsp\;
Read and see more from Agnes Parcesepe&nbsp\;including her Gallery of work and biography at&nbsp\;https://www.agili.com.au
&nbsp\;
Weekend entry by donation\, enter 15 minutes before talk\, limited seating
Connect with our social channels for Award news and event&nbsp\;updates 
&nbsp\;
Warranwood Art Show&nbsp\;thanks&nbsp\;its patrons\, 2019 Sponsors and Supporters\, enabling continuity and support for the arts community through art awards\, recognition and artwork sales in addition to showcasing artistic performances to art lovers and&nbsp\;community.&nbsp\;
&nbsp\;
URL;VALUE=URI:http://warranwoodartshow.com.au/event/40111
SUMMARY:Artistic talk with Agnes Parcesepe 31-Aug
DTSTART:20190831T140000
END:VEVENT
END:VCALENDAR

